BEGIN:VCALENDAR
VERSION:2.0
PRODID:-//pretix//pretix.eu//
BEGIN:VEVENT
UID:pretix-dein-nlp-nlp-prac-0524-0@shop.dein-nlp.com
DTSTART;VALUE=DATE:20240519
DTEND;VALUE=DATE:20240520
DESCRIPTION:Tickets: https://shop.dein-nlp.com/nlp-prac-0524/\nVeranstalter
 : Dein NLP - Akademie für Neuro-Lingiuistisches Programmieren
DTSTAMP:20260421T113144Z
LOCATION:Heraklion\, Kreta\, Griechenland
SUMMARY:NLP Practitioner
END:VEVENT
END:VCALENDAR
