BEGIN:VCALENDAR
VERSION:2.0
PRODID:-//pretix//pretix.eu//
BEGIN:VEVENT
UID:pretix-dein-nlp-nlp-basic-4124391@shop.dein-nlp.com
DTSTART;VALUE=DATE:20240413
DTEND;VALUE=DATE:20240414
DESCRIPTION:Tickets: https://shop.dein-nlp.com/nlp-basic/4124391/\nEinlass:
  13.04.2024 09:45\nVeranstalter: Dein NLP - Akademie für Neuro-Lingiuisti
 sches Programmieren
DTSTAMP:20260423T063658Z
LOCATION:Online via Zoom
SUMMARY:NLP Basic März 2024
END:VEVENT
END:VCALENDAR
