BEGIN:VCALENDAR
VERSION:2.0
PRODID:-//pretix//pretix.eu//
BEGIN:VEVENT
UID:pretix-dein-nlp-nlp-basic-3996634@shop.dein-nlp.com
DTSTART;VALUE=DATE:20240120
DTEND;VALUE=DATE:20240121
DESCRIPTION:Tickets: https://shop.dein-nlp.com/nlp-basic/3996634/\nEinlass:
  20.01.2024 09:45\nVeranstalter: Dein NLP - Akademie für Neuro-Lingiuisti
 sches Programmieren
DTSTAMP:20260423T110659Z
LOCATION:Online via Zoom
SUMMARY:NLP Basic Januar 2024
END:VEVENT
END:VCALENDAR
