BEGIN:VCALENDAR
VERSION:2.0
PRODID:-//pretix//pretix.eu//
BEGIN:VEVENT
UID:pretix-dein-nlp-nlp-basic-3996633@shop.dein-nlp.com
DTSTART;VALUE=DATE:20231209
DTEND;VALUE=DATE:20231210
DESCRIPTION:Tickets: https://shop.dein-nlp.com/nlp-basic/3996633/\nEinlass:
  16.12.2023 09:45\nVeranstalter: Dein NLP - Akademie für Neuro-Lingiuisti
 sches Programmieren
DTSTAMP:20260423T123947Z
LOCATION:Online via Zoom
SUMMARY:NLP Basic Dezember 2023
END:VEVENT
END:VCALENDAR
