BEGIN:VCALENDAR
VERSION:2.0
PRODID:-//pretix//pretix.eu//
BEGIN:VEVENT
UID:pretix-dein-nlp-nlp-basic-3996632@shop.dein-nlp.com
DTSTART;VALUE=DATE:20231118
DTEND;VALUE=DATE:20231119
DESCRIPTION:Tickets: https://shop.dein-nlp.com/nlp-basic/3996632/\nEinlass:
  18.11.2023 09:45\nVeranstalter: Dein NLP - Akademie für Neuro-Lingiuisti
 sches Programmieren
DTSTAMP:20260423T142608Z
LOCATION:Online via Zoom
SUMMARY:NLP Basic November 2023
END:VEVENT
END:VCALENDAR
